BEGIN:VCALENDAR
VERSION:2.0
PRODID:-//Dakota - ECPv6.15.20//NONSGML v1.0//EN
CALSCALE:GREGORIAN
METHOD:PUBLISH
X-WR-CALNAME:Dakota
X-ORIGINAL-URL:https://www.dakotacooks.com
X-WR-CALDESC:Events for Dakota
REFRESH-INTERVAL;VALUE=DURATION:PT1H
X-Robots-Tag:noindex
X-PUBLISHED-TTL:PT1H
BEGIN:VTIMEZONE
TZID:America/Chicago
BEGIN:DAYLIGHT
TZOFFSETFROM:-0600
TZOFFSETTO:-0500
TZNAME:CDT
DTSTART:20250309T080000
END:DAYLIGHT
BEGIN:STANDARD
TZOFFSETFROM:-0500
TZOFFSETTO:-0600
TZNAME:CST
DTSTART:20251102T070000
END:STANDARD
BEGIN:DAYLIGHT
TZOFFSETFROM:-0600
TZOFFSETTO:-0500
TZNAME:CDT
DTSTART:20260308T080000
END:DAYLIGHT
BEGIN:STANDARD
TZOFFSETFROM:-0500
TZOFFSETTO:-0600
TZNAME:CST
DTSTART:20261101T070000
END:STANDARD
BEGIN:DAYLIGHT
TZOFFSETFROM:-0600
TZOFFSETTO:-0500
TZNAME:CDT
DTSTART:20270314T080000
END:DAYLIGHT
BEGIN:STANDARD
TZOFFSETFROM:-0500
TZOFFSETTO:-0600
TZNAME:CST
DTSTART:20271107T070000
END:STANDARD
END:VTIMEZONE
BEGIN:VEVENT
DTSTART;TZID=America/Chicago:20260107T190000
DTEND;TZID=America/Chicago:20260107T210000
DTSTAMP:20260419T074843
CREATED:20251028T174058Z
LAST-MODIFIED:20251202T230315Z
UID:10003145-1767812400-1767819600@www.dakotacooks.com
SUMMARY:One World: The Best of Sting & The Police
DESCRIPTION:Journey through the iconic sounds of Sting and The Police with One World\, the ultimate Police tribute band. They capture the electrifying energy and musical genius of the legendary Police trio and the expansive Sting solo catalog.\n  \nTogether\, Sting and The Police sold over 200 million records in the 1980s\, 1990s and beyond. Led by Todd Ortberg\, the classic Police trio expands and comes alive. Thus\, this seven-piece ensemble truly nails the sounds and energy of both Sting and The Police. \nRelive the memories and dance to the infectious rhythms of classic hits. Hear songs like “Roxanne\,” “Every Breath You Take\,” “Don’t Stand So Close to Me\,” “Message In a Bottle\,” “Every Little Thing She Does is Magic”\, “Fields of Gold”\, “Englishman in New York” and many more. One World’s captivating performance will transport you back to the era of pop-infused rock\, reggae and new wave that defined the 1970s and 1980s. \nPrepare to be mesmerized by soaring vocals\, rocking guitars\, pulsating rhythms and the signature Sting and The Police sound that has captivated audiences worldwide. One World fills its shows with passion\, energy\, and sheer musical brilliance. Experience the things that made Sting and The Police one of the most influential bands of all time. \nThis show features soaring vocals and great rock/ska rhythms. Also\, layers of saxophones\, keyboards and backing singers round out a fully musically textured show. One World consistently sells out theaters and clubs in the Minneapolis area. Don’t miss it! \nRecommended for fans of The Police\, Sting\, Queen and U2.
URL:https://www.dakotacooks.com/event/one-world-the-best-of-sting-the-police-jan7-2026/
CATEGORIES:Rock/Pop
ATTACH;FMTTYPE=image/jpeg:https://www.dakotacooks.com/wp-content/uploads/2025/10/700x400-OneWorldStingPolice.jpg
END:VEVENT
END:VCALENDAR