BEGIN:VCALENDAR
VERSION:2.0
PRODID:-//Dakota - ECPv6.15.20//NONSGML v1.0//EN
CALSCALE:GREGORIAN
METHOD:PUBLISH
X-WR-CALNAME:Dakota
X-ORIGINAL-URL:https://www.dakotacooks.com
X-WR-CALDESC:Events for Dakota
REFRESH-INTERVAL;VALUE=DURATION:PT1H
X-Robots-Tag:noindex
X-PUBLISHED-TTL:PT1H
BEGIN:VTIMEZONE
TZID:America/Chicago
BEGIN:DAYLIGHT
TZOFFSETFROM:-0600
TZOFFSETTO:-0500
TZNAME:CDT
DTSTART:20250309T080000
END:DAYLIGHT
BEGIN:STANDARD
TZOFFSETFROM:-0500
TZOFFSETTO:-0600
TZNAME:CST
DTSTART:20251102T070000
END:STANDARD
BEGIN:DAYLIGHT
TZOFFSETFROM:-0600
TZOFFSETTO:-0500
TZNAME:CDT
DTSTART:20260308T080000
END:DAYLIGHT
BEGIN:STANDARD
TZOFFSETFROM:-0500
TZOFFSETTO:-0600
TZNAME:CST
DTSTART:20261101T070000
END:STANDARD
BEGIN:DAYLIGHT
TZOFFSETFROM:-0600
TZOFFSETTO:-0500
TZNAME:CDT
DTSTART:20270314T080000
END:DAYLIGHT
BEGIN:STANDARD
TZOFFSETFROM:-0500
TZOFFSETTO:-0600
TZNAME:CST
DTSTART:20271107T070000
END:STANDARD
END:VTIMEZONE
BEGIN:VEVENT
DTSTART;TZID=America/Chicago:20260602T190000
DTEND;TZID=America/Chicago:20260602T210000
DTSTAMP:20260425T160252
CREATED:20260324T211110Z
LAST-MODIFIED:20260330T135959Z
UID:10003368-1780426800-1780434000@www.dakotacooks.com
SUMMARY:Vincen García
DESCRIPTION:“a searing mixture of incredible chops and mind-boggling groove” – Guitar World\n  \nVincen García is a Spanish bassist from Valencia. Moreover\, critics and fans acclaim him as one of the most prestigious figures in the modern jazz and funk scene worldwide. He has over fourteen years of professional experience and has developed a distinctive\, modern sound marked by energetic and gritty execution. \nBorn into a musical family\, his parents introduced him to performance and touring at an early age. There\, his mother was a vocalist and his father a trumpeter. Then\, he began playing bass in his high school band and developed his craft entirely as a self-taught musician. \nVincen ranks among the most listened-to bassists globally in terms of streaming. Here\, he has amassed hundreds of thousands of followers and millions of views and reactions. Additionally\, he has become one of the most impactful artists in the genre. Thus\, he has performed at Montreux Jazz Festival (Switzerland)\, the North Sea Jazz Festival (Netherlands)\, or the Pori Jazz Festival (Finland). His first album\, 2023’s Ventura\, received an overwhelmingly positive reception in cities around the world. García also collaborates on tours with international artists like Cory Wong and Jesús Molina. The artist will present his second album in 2026 with a world tour that will span every continent.  \nAs a result\, he has become one of the most important and influential Spanish artists on the international stage. \nRecommended for fans of Cory Wong\, Mohini Dey\, Matteo Mancuso and Victor Wooten.
URL:https://www.dakotacooks.com/event/vincen-garcia-jun2-2026/2026-06-02/1/
CATEGORIES:Jazz,Rock
ATTACH;FMTTYPE=image/jpeg:https://www.dakotacooks.com/wp-content/uploads/2026/03/700x400-VincenGarcia.jpg
END:VEVENT
BEGIN:VEVENT
DTSTART;TZID=America/Chicago:20260602T210000
DTEND;TZID=America/Chicago:20260602T230000
DTSTAMP:20260425T160252
CREATED:20260324T211110Z
LAST-MODIFIED:20260330T135959Z
UID:10003369-1780434000-1780441200@www.dakotacooks.com
SUMMARY:Vincen García
DESCRIPTION:“a searing mixture of incredible chops and mind-boggling groove” – Guitar World\n  \nVincen García is a Spanish bassist from Valencia. Moreover\, critics and fans acclaim him as one of the most prestigious figures in the modern jazz and funk scene worldwide. He has over fourteen years of professional experience and has developed a distinctive\, modern sound marked by energetic and gritty execution. \nBorn into a musical family\, his parents introduced him to performance and touring at an early age. There\, his mother was a vocalist and his father a trumpeter. Then\, he began playing bass in his high school band and developed his craft entirely as a self-taught musician. \nVincen ranks among the most listened-to bassists globally in terms of streaming. Here\, he has amassed hundreds of thousands of followers and millions of views and reactions. Additionally\, he has become one of the most impactful artists in the genre. Thus\, he has performed at Montreux Jazz Festival (Switzerland)\, the North Sea Jazz Festival (Netherlands)\, or the Pori Jazz Festival (Finland). His first album\, 2023’s Ventura\, received an overwhelmingly positive reception in cities around the world. García also collaborates on tours with international artists like Cory Wong and Jesús Molina. The artist will present his second album in 2026 with a world tour that will span every continent.  \nAs a result\, he has become one of the most important and influential Spanish artists on the international stage. \nRecommended for fans of Cory Wong\, Mohini Dey\, Matteo Mancuso and Victor Wooten.
URL:https://www.dakotacooks.com/event/vincen-garcia-jun2-2026/2026-06-02/2/
CATEGORIES:Jazz,Rock
ATTACH;FMTTYPE=image/jpeg:https://www.dakotacooks.com/wp-content/uploads/2026/03/700x400-VincenGarcia.jpg
END:VEVENT
BEGIN:VEVENT
DTSTART;TZID=America/Chicago:20260626T190000
DTEND;TZID=America/Chicago:20260626T210000
DTSTAMP:20260425T160252
CREATED:20260408T165336Z
LAST-MODIFIED:20260413T133728Z
UID:10003395-1782500400-1782507600@www.dakotacooks.com
SUMMARY:Stanley Jordan
DESCRIPTION:“a virtuosic tour de force” – L.A. Times\n  \nGuitar virtuoso Stanley Jordan’s career took flight in 1985 with commercial and critical acclaim. Since then\, he has consistently displayed a chameleonic musical persona of openness\, imagination\, versatility and maverick daring. Here\, he displays bold reinventions of classical masterpieces or soulful explorations through pop-rock hits. Also\, blazing straight ahead jazz forays and ultramodern improvisational works\, solo or with a group. Thus\, Jordan can always be counted on to take listeners on breathless journeys into the unexpected. \n“Jordan’s revolutionary approach to the instrument [is] shocking.” – All Music\nKey to Jordan’s fast-track acclaim is his mastery of a special technique on the guitar’s fretboard. Instead of conventional strumming and picking\, Jordan’s innovative “touch technique” is an advanced form of two-handed tapping. While a handful of others use similar techniques\, Stanley’s fluid\, multi-layered textures and sheer virtuosity raise the bar for excellence. However\, his technique\, though impressive\, is always a means to a musical end. \n”To see and hear Stanley Jordan play guitar is to witness higher-level instrumental performance.” — Roanoke Times\nHis music is imbued with a warmth and sensitivity that has captured the imagination of listeners worldwide. A classically trained pianist before playing guitar\, Jordan wanted greater freedom in voicing chords on his guitar. Then\, he applied piano principles to do so. Furthermore\, Jordan’s touch technique allows the guitarist to play melody and chords simultaneously with an unprecedented level of independence. It also allows Jordan to play simultaneously on two different guitars\, or even on guitar and piano. \nJordan has received four Grammy nominations. Additionally\, his 2011 album Friends was nominated for an NAACP Image Award. L.A. Times jazz critic Leonard Feather wrote\, “Genius is a word often tossed around in musical circles. But it has been rightfully applied to Stanley Jordan.” \nRecommended for fans of Pat Metheny\, Al Di Meola\, Larry Coryell and John McLaughlin.
URL:https://www.dakotacooks.com/event/stanley-jordan-jun26-2026/
CATEGORIES:Jazz,Rock
ATTACH;FMTTYPE=image/jpeg:https://www.dakotacooks.com/wp-content/uploads/2026/04/700x400-StanleyJordan.jpg
END:VEVENT
BEGIN:VEVENT
DTSTART;TZID=America/Chicago:20260629T190000
DTEND;TZID=America/Chicago:20260629T210000
DTSTAMP:20260425T160252
CREATED:20260401T144500Z
LAST-MODIFIED:20260406T134143Z
UID:10003385-1782759600-1782766800@www.dakotacooks.com
SUMMARY:Anders Osborne
DESCRIPTION:“mix of Neil Young meets Jackson Browne style” – Glide\n  \nOn his seventeenth album\, singer-songwriter Anders Osborne describes 2024’s Picasso’s Villa\, “a condensed story about living in America between 2018-2021. The fears\, confusion\, deep joy and peace achieved through true friendship\, family\, community\, hours of meditation and detachment from ego.”  \nFurther\, Osborne has been in a twelve-step program for fifteen years. He explains\, “The biggest change in getting sober was the focus on meditation and prayer\, just looking more inward. When I’m sleeping in 140 different beds a year\, eating unhealthy foods\, meditation is what keeps me centered. Holding myself in that sacred space for a while is what makes it possible for me to do all this.” \nAfter living and performing in New Orleans for almost four decades\, Osborne has become a fixture of that musical community. Thus\, Guitar Player called him “the poet laureate of Louisiana’s fertile roots music scene.” Also\, New Orleans’ Gambit Weekly honored Osborne as Entertainer of The Year. Additionally\, OffBeat named him the Crescent City’s Best Guitarist on three occasions\, and the Best Songwriter twice. He has appeared at Jazz Fest for over thirty-five years. \nIn addition to his solo shows\, Osborne performed with the North Mississippi All-Stars\, Toots and the Maytals\, and John Scofield. Also\, The Meters\, Derek Trucks\, Warren Haynes\, Stanton Moore\, Phil Lesh\, Jackie Greene\, Bonnie Raitt\, Dr. John\, and Taj Mahal. Osborne appeared as himself in an episode of the HBO series Treme. Also\, he taught a course about art and the music business at Tulane University. Osborne has collaborated with Steve Earle at the annual Camp Copperhead songwriting camp since 2019. \nRecommended for fans of Tab Benoit\, The Radiators\, Devon Allman and North Mississippi All-Stars.
URL:https://www.dakotacooks.com/event/anders-osborne-jun29-2026/
CATEGORIES:Blues,Rock
ATTACH;FMTTYPE=image/jpeg:https://www.dakotacooks.com/wp-content/uploads/2026/04/700x400-AndersOsborne.jpg
END:VEVENT
END:VCALENDAR