BEGIN:VCALENDAR
VERSION:2.0
PRODID:-//Dakota - ECPv6.15.20//NONSGML v1.0//EN
CALSCALE:GREGORIAN
METHOD:PUBLISH
X-WR-CALNAME:Dakota
X-ORIGINAL-URL:https://www.dakotacooks.com
X-WR-CALDESC:Events for Dakota
REFRESH-INTERVAL;VALUE=DURATION:PT1H
X-Robots-Tag:noindex
X-PUBLISHED-TTL:PT1H
BEGIN:VTIMEZONE
TZID:America/Chicago
BEGIN:DAYLIGHT
TZOFFSETFROM:-0600
TZOFFSETTO:-0500
TZNAME:CDT
DTSTART:20250309T080000
END:DAYLIGHT
BEGIN:STANDARD
TZOFFSETFROM:-0500
TZOFFSETTO:-0600
TZNAME:CST
DTSTART:20251102T070000
END:STANDARD
BEGIN:DAYLIGHT
TZOFFSETFROM:-0600
TZOFFSETTO:-0500
TZNAME:CDT
DTSTART:20260308T080000
END:DAYLIGHT
BEGIN:STANDARD
TZOFFSETFROM:-0500
TZOFFSETTO:-0600
TZNAME:CST
DTSTART:20261101T070000
END:STANDARD
BEGIN:DAYLIGHT
TZOFFSETFROM:-0600
TZOFFSETTO:-0500
TZNAME:CDT
DTSTART:20270314T080000
END:DAYLIGHT
BEGIN:STANDARD
TZOFFSETFROM:-0500
TZOFFSETTO:-0600
TZNAME:CST
DTSTART:20271107T070000
END:STANDARD
END:VTIMEZONE
BEGIN:VEVENT
DTSTART;TZID=America/Chicago:20260708T190000
DTEND;TZID=America/Chicago:20260708T210000
DTSTAMP:20260420T114848
CREATED:20260415T163816Z
LAST-MODIFIED:20260420T140156Z
UID:10003406-1783537200-1783544400@www.dakotacooks.com
SUMMARY:Suzy Bogguss
DESCRIPTION:“a voice as soothing as summer rain” – Rolling Stone\n  \nDuring the creative explosion that was country music in the 1990s Suzy Bogguss sold 4 million records. Here\, she did this with sparkling radio hits like “Outbound Plane”\, “Someday Soon”\, “Letting Go”\, “Drive South”\, and “Hey Cinderella”. But you can’t peg Suzy that easily…  \nAmid her country popularity she took time off to make a duets album with the legendary Chet Atkins. Then\, in 2003 she made an album of modern swing music with Ray Benson of Asleep At The Wheel. Furthermore\, she recorded an album of original music in 2007 that landed at Number Four on the jazz charts. Her folk music roots show through in many ways: she made frequent appearances on public radio’s A Prairie Home Companion. Also\, she won a Grammy for her work on Beautiful Dreamer: The Songs of Stephen Foster. She received acclaim for 2011’s American Folk Songbook\, her critically acclaimed album and book project. Then\, in 2014 she released Lucky\, a collection of songs written by Merle Haggard and interpreted through Suzy’s crystal vocals from the female point of view.  \nHer latest offering\, 2023’s Prayin’ For Sunshine\, is an Americana tour de force with all songs written by Bogguss. She continues to tour the world. There\, she tours solo and with fellow country radio divas Terri Clark and Pam Tillis as “Chicks With Hits”. Also\, she recently joined Kathy Mattea on their Together At Last tour. So yes\, you can call her a country singer if you want\, but really that’s just the beginning. \nRecommended for fans of Allison Moorer\, Patty Loveless\, Alison Krauss and Mary Chapin Carpenter.
URL:https://www.dakotacooks.com/event/suzy-bogguss-jul8-2026/2026-07-08/1/
CATEGORIES:Americana
ATTACH;FMTTYPE=image/jpeg:https://www.dakotacooks.com/wp-content/uploads/2026/04/700x400-SuzyBogguss.jpg
END:VEVENT
BEGIN:VEVENT
DTSTART;TZID=America/Chicago:20260708T210000
DTEND;TZID=America/Chicago:20260708T230000
DTSTAMP:20260420T114848
CREATED:20260415T163816Z
LAST-MODIFIED:20260420T140156Z
UID:10003407-1783544400-1783551600@www.dakotacooks.com
SUMMARY:Suzy Bogguss
DESCRIPTION:“a voice as soothing as summer rain” – Rolling Stone\n  \nDuring the creative explosion that was country music in the 1990s Suzy Bogguss sold 4 million records. Here\, she did this with sparkling radio hits like “Outbound Plane”\, “Someday Soon”\, “Letting Go”\, “Drive South”\, and “Hey Cinderella”. But you can’t peg Suzy that easily…  \nAmid her country popularity she took time off to make a duets album with the legendary Chet Atkins. Then\, in 2003 she made an album of modern swing music with Ray Benson of Asleep At The Wheel. Furthermore\, she recorded an album of original music in 2007 that landed at Number Four on the jazz charts. Her folk music roots show through in many ways: she made frequent appearances on public radio’s A Prairie Home Companion. Also\, she won a Grammy for her work on Beautiful Dreamer: The Songs of Stephen Foster. She received acclaim for 2011’s American Folk Songbook\, her critically acclaimed album and book project. Then\, in 2014 she released Lucky\, a collection of songs written by Merle Haggard and interpreted through Suzy’s crystal vocals from the female point of view.  \nHer latest offering\, 2023’s Prayin’ For Sunshine\, is an Americana tour de force with all songs written by Bogguss. She continues to tour the world. There\, she tours solo and with fellow country radio divas Terri Clark and Pam Tillis as “Chicks With Hits”. Also\, she recently joined Kathy Mattea on their Together At Last tour. So yes\, you can call her a country singer if you want\, but really that’s just the beginning. \nRecommended for fans of Allison Moorer\, Patty Loveless\, Alison Krauss and Mary Chapin Carpenter.
URL:https://www.dakotacooks.com/event/suzy-bogguss-jul8-2026/2026-07-08/2/
CATEGORIES:Americana
ATTACH;FMTTYPE=image/jpeg:https://www.dakotacooks.com/wp-content/uploads/2026/04/700x400-SuzyBogguss.jpg
END:VEVENT
END:VCALENDAR